Package: iCheck Version: 1.36.0 Command: /home/biocbuild/R/R/bin/R CMD INSTALL iCheck StartedAt: 2025-03-31 21:09:09 -0000 (Mon, 31 Mar 2025) EndedAt: 2025-03-31 21:10:11 -0000 (Mon, 31 Mar 2025) EllapsedTime: 61.6 seconds RetCode: 0 Status: OK