Package: iCheck Version: 1.36.0 Command: /home/biocbuild/bbs-3.20-bioc/R/bin/R CMD check --install=check:iCheck.install-out.txt --library=/home/biocbuild/bbs-3.20-bioc/R/site-library --timings iCheck_1.36.0.tar.gz StartedAt: 2025-03-31 23:03:36 -0400 (Mon, 31 Mar 2025) EndedAt: 2025-03-31 23:09:14 -0400 (Mon, 31 Mar 2025) EllapsedTime: 338.4 seconds RetCode: 0 Status: OK CheckDir: iCheck.Rcheck Warnings: 0