Package: iCOBRA Version: 1.34.0 Command: /home/biocbuild/R/R/bin/R CMD build --keep-empty-dirs --no-resave-data iCOBRA StartedAt: 2025-04-01 00:15:16 -0000 (Tue, 01 Apr 2025) EndedAt: 2025-04-01 00:15:50 -0000 (Tue, 01 Apr 2025) EllapsedTime: 34.0 seconds RetCode: 0 Status: OK PackageFile: iCOBRA_1.34.0.tar.gz PackageFileSize: 2.84 MiB