Package: iCOBRA Version: 1.34.0 Command: rm -rf iCOBRA.buildbin-libdir && mkdir iCOBRA.buildbin-libdir && F:\biocbuild\bbs-3.20-bioc\R\bin\R.exe CMD INSTALL --build --library=iCOBRA.buildbin-libdir iCOBRA_1.34.0.tar.gz StartedAt: 2025-04-01 08:24:59 -0400 (Tue, 01 Apr 2025) EndedAt: 2025-04-01 08:26:24 -0400 (Tue, 01 Apr 2025) EllapsedTime: 84.6 seconds RetCode: 0 Status: OK PackageFile: iCOBRA_1.34.0.zip PackageFileSize: 2.411 MiB