Package: iCNV Version: 1.26.0 Command: /Library/Frameworks/R.framework/Resources/bin/R CMD check --install=check:iCNV.install-out.txt --library=/Library/Frameworks/R.framework/Resources/library --no-vignettes --timings iCNV_1.26.0.tar.gz StartedAt: 2025-04-01 04:24:59 -0400 (Tue, 01 Apr 2025) EndedAt: 2025-04-01 04:32:48 -0400 (Tue, 01 Apr 2025) EllapsedTime: 469.2 seconds RetCode: 0 Status: WARNINGS CheckDir: iCNV.Rcheck Warnings: 1