Package: iCNV Version: 1.26.0 Command: /Library/Frameworks/R.framework/Resources/bin/R CMD build --keep-empty-dirs --no-resave-data iCNV StartedAt: 2025-04-01 01:25:40 -0400 (Tue, 01 Apr 2025) EndedAt: 2025-04-01 01:27:52 -0400 (Tue, 01 Apr 2025) EllapsedTime: 132.1 seconds RetCode: 0 Status: OK PackageFile: iCNV_1.26.0.tar.gz PackageFileSize: 2.361 MiB