Package: iCARE Version: 1.34.0 Command: F:\biocbuild\bbs-3.20-bioc\R\bin\R.exe CMD INSTALL iCARE StartedAt: 2025-03-31 16:07:53 -0400 (Mon, 31 Mar 2025) EndedAt: 2025-03-31 16:08:13 -0400 (Mon, 31 Mar 2025) EllapsedTime: 19.6 seconds RetCode: 0 Status: OK