Package: iCARE Version: 1.34.0 Command: /home/biocbuild/bbs-3.20-bioc/R/bin/R CMD INSTALL iCARE StartedAt: 2025-03-31 15:38:03 -0400 (Mon, 31 Mar 2025) EndedAt: 2025-03-31 15:38:10 -0400 (Mon, 31 Mar 2025) EllapsedTime: 6.6 seconds RetCode: 0 Status: OK