Package: iCARE Version: 1.34.0 Command: /home/biocbuild/bbs-3.20-bioc/R/bin/R CMD check --install=check:iCARE.install-out.txt --library=/home/biocbuild/bbs-3.20-bioc/R/site-library --timings iCARE_1.34.0.tar.gz StartedAt: 2025-03-31 23:03:11 -0400 (Mon, 31 Mar 2025) EndedAt: 2025-03-31 23:07:45 -0400 (Mon, 31 Mar 2025) EllapsedTime: 274.3 seconds RetCode: 0 Status: WARNINGS CheckDir: iCARE.Rcheck Warnings: 1