Package: iCARE Version: 1.34.0 Command: /Library/Frameworks/R.framework/Resources/bin/R CMD check --install=check:iCARE.install-out.txt --library=/Library/Frameworks/R.framework/Resources/library --no-vignettes --timings iCARE_1.34.0.tar.gz StartedAt: 2025-04-01 04:24:14 -0400 (Tue, 01 Apr 2025) EndedAt: 2025-04-01 04:26:52 -0400 (Tue, 01 Apr 2025) EllapsedTime: 158.7 seconds RetCode: 0 Status: WARNINGS CheckDir: iCARE.Rcheck Warnings: 1