Package: iBMQ Version: 1.46.0 Command: F:\biocbuild\bbs-3.20-bioc\R\bin\R.exe CMD INSTALL iBMQ StartedAt: 2025-03-31 15:33:08 -0400 (Mon, 31 Mar 2025) EndedAt: 2025-03-31 15:33:34 -0400 (Mon, 31 Mar 2025) EllapsedTime: 26.4 seconds RetCode: 0 Status: OK