Package: iBBiG Version: 1.50.0 Command: /home/biocbuild/R/R/bin/R CMD check --install=check:iBBiG.install-out.txt --library=/home/biocbuild/R/R/site-library --no-vignettes --timings iBBiG_1.50.0.tar.gz StartedAt: 2025-04-01 07:27:15 -0000 (Tue, 01 Apr 2025) EndedAt: 2025-04-01 07:29:34 -0000 (Tue, 01 Apr 2025) EllapsedTime: 139.2 seconds RetCode: 0 Status: OK CheckDir: iBBiG.Rcheck Warnings: 0