Package: iBBiG Version: 1.50.0 Command: /home/biocbuild/R/R/bin/R CMD build --keep-empty-dirs --no-resave-data iBBiG StartedAt: 2025-04-01 00:14:48 -0000 (Tue, 01 Apr 2025) EndedAt: 2025-04-01 00:15:32 -0000 (Tue, 01 Apr 2025) EllapsedTime: 44.0 seconds RetCode: 0 Status: OK PackageFile: iBBiG_1.50.0.tar.gz PackageFileSize: 903.6 KiB