Package: iBBiG Version: 1.50.0 Command: /Library/Frameworks/R.framework/Resources/bin/R CMD check --install=check:iBBiG.install-out.txt --library=/Library/Frameworks/R.framework/Resources/library --no-vignettes --timings iBBiG_1.50.0.tar.gz StartedAt: 2025-04-01 04:24:07 -0400 (Tue, 01 Apr 2025) EndedAt: 2025-04-01 04:27:28 -0400 (Tue, 01 Apr 2025) EllapsedTime: 201.1 seconds RetCode: 0 Status: OK CheckDir: iBBiG.Rcheck Warnings: 0