Package: iBBiG Version: 1.50.0 Command: /Library/Frameworks/R.framework/Resources/bin/R CMD build --keep-empty-dirs --no-resave-data iBBiG StartedAt: 2025-03-31 19:25:54 -0400 (Mon, 31 Mar 2025) EndedAt: 2025-03-31 19:26:56 -0400 (Mon, 31 Mar 2025) EllapsedTime: 61.4 seconds RetCode: 0 Status: OK PackageFile: iBBiG_1.50.0.tar.gz PackageFileSize: 909 KiB