Package: iBBiG Version: 1.50.0 Command: /Library/Frameworks/R.framework/Resources/bin/R CMD INSTALL iBBiG StartedAt: 2025-03-31 17:40:59 -0400 (Mon, 31 Mar 2025) EndedAt: 2025-03-31 17:41:07 -0400 (Mon, 31 Mar 2025) EllapsedTime: 8.1 seconds RetCode: 0 Status: OK