Package: iASeq Version: 1.50.0 Command: /home/biocbuild/R/R/bin/R CMD INSTALL iASeq StartedAt: 2025-03-31 21:11:56 -0000 (Mon, 31 Mar 2025) EndedAt: 2025-03-31 21:11:58 -0000 (Mon, 31 Mar 2025) EllapsedTime: 2.4 seconds RetCode: 0 Status: OK