Package: iASeq Version: 1.50.0 Command: /Library/Frameworks/R.framework/Resources/bin/R CMD INSTALL iASeq StartedAt: 2025-03-31 18:20:54 -0400 (Mon, 31 Mar 2025) EndedAt: 2025-03-31 18:20:57 -0400 (Mon, 31 Mar 2025) EllapsedTime: 2.5 seconds RetCode: 0 Status: OK