Package: hypergraph Version: 1.78.0 Command: chmod a+r hypergraph -R && F:\biocbuild\bbs-3.20-bioc\R\bin\R.exe CMD build --keep-empty-dirs --no-resave-data hypergraph StartedAt: 2025-03-31 19:35:09 -0400 (Mon, 31 Mar 2025) EndedAt: 2025-03-31 19:35:11 -0400 (Mon, 31 Mar 2025) EllapsedTime: 2.1 seconds RetCode: 0 Status: OK PackageFile: hypergraph_1.78.0.tar.gz PackageFileSize: 8.272 KiB