Package: hyperdraw Version: 1.58.0 Command: rm -rf hyperdraw.buildbin-libdir && mkdir hyperdraw.buildbin-libdir && F:\biocbuild\bbs-3.20-bioc\R\bin\R.exe CMD INSTALL --build --library=hyperdraw.buildbin-libdir hyperdraw_1.58.0.tar.gz StartedAt: 2025-04-01 08:24:32 -0400 (Tue, 01 Apr 2025) EndedAt: 2025-04-01 08:24:59 -0400 (Tue, 01 Apr 2025) EllapsedTime: 26.4 seconds RetCode: 0 Status: OK PackageFile: hyperdraw_1.58.0.zip PackageFileSize: 278.4 KiB