Package: hyperdraw Version: 1.58.0 Command: rm -rf hyperdraw.buildbin-libdir && mkdir hyperdraw.buildbin-libdir && /Users/biocbuild/BBS/utils/build-universal.sh hyperdraw_1.58.0.tar.gz /Library/Frameworks/R.framework/Resources/bin/R hyperdraw.buildbin-libdir StartedAt: 2025-04-01 12:03:49 -0400 (Tue, 01 Apr 2025) EndedAt: 2025-04-01 12:04:02 -0400 (Tue, 01 Apr 2025) EllapsedTime: 12.9 seconds RetCode: 0 Status: OK PackageFile: hyperdraw_1.58.0.tgz PackageFileSize: 390.3 KiB