Package: hyperdraw Version: 1.58.0 Command: /Library/Frameworks/R.framework/Resources/bin/R CMD build --keep-empty-dirs --no-resave-data hyperdraw StartedAt: 2025-04-01 01:22:48 -0400 (Tue, 01 Apr 2025) EndedAt: 2025-04-01 01:23:03 -0400 (Tue, 01 Apr 2025) EllapsedTime: 15.9 seconds RetCode: 0 Status: OK PackageFile: hyperdraw_1.58.0.tar.gz PackageFileSize: 203.9 KiB