Package: hypeR Version: 2.4.0 Command: F:\biocbuild\bbs-3.20-bioc\R\bin\R.exe CMD check --no-multiarch --install=check:hypeR.install-out.txt --library=F:\biocbuild\bbs-3.20-bioc\R\library --no-vignettes --timings hypeR_2.4.0.tar.gz StartedAt: 2025-03-11 02:36:22 -0400 (Tue, 11 Mar 2025) EndedAt: 2025-03-11 02:40:17 -0400 (Tue, 11 Mar 2025) EllapsedTime: 234.4 seconds RetCode: 0 Status: WARNINGS CheckDir: hypeR.Rcheck Warnings: 2