Package: hypeR Version: 2.4.0 Command: /Library/Frameworks/R.framework/Resources/bin/R CMD check --install=check:hypeR.install-out.txt --library=/Library/Frameworks/R.framework/Resources/library --no-vignettes --timings hypeR_2.4.0.tar.gz StartedAt: 2025-03-11 04:15:12 -0400 (Tue, 11 Mar 2025) EndedAt: 2025-03-11 04:20:06 -0400 (Tue, 11 Mar 2025) EllapsedTime: 293.3 seconds RetCode: 0 Status: WARNINGS CheckDir: hypeR.Rcheck Warnings: 2