Package: hypeR Version: 2.4.0 Command: /Library/Frameworks/R.framework/Resources/bin/R CMD build --keep-empty-dirs --no-resave-data hypeR StartedAt: 2025-04-01 01:22:46 -0400 (Tue, 01 Apr 2025) EndedAt: 2025-04-01 01:22:50 -0400 (Tue, 01 Apr 2025) EllapsedTime: 3.4 seconds RetCode: 1 Status: ERROR PackageFile: None PackageFileSize: NA