Package: hypeR Version: 2.4.0 Command: rm -rf hypeR.buildbin-libdir && mkdir hypeR.buildbin-libdir && /Users/biocbuild/BBS/utils/build-universal.sh hypeR_2.4.0.tar.gz /Library/Frameworks/R.framework/Resources/bin/R hypeR.buildbin-libdir StartedAt: 2025-03-12 14:39:00 -0400 (Wed, 12 Mar 2025) EndedAt: 2025-03-12 14:39:13 -0400 (Wed, 12 Mar 2025) EllapsedTime: 12.4 seconds RetCode: 0 Status: OK PackageFile: hypeR_2.4.0.tgz PackageFileSize: 601.2 KiB