Package: hummingbird Version: 1.16.0 Command: /home/biocbuild/R/R/bin/R CMD INSTALL hummingbird StartedAt: 2025-03-31 20:21:29 -0000 (Mon, 31 Mar 2025) EndedAt: 2025-03-31 20:22:03 -0000 (Mon, 31 Mar 2025) EllapsedTime: 33.8 seconds RetCode: 0 Status: OK