Package: hummingbird Version: 1.16.0 Command: /Library/Frameworks/R.framework/Resources/bin/R CMD check --install=check:hummingbird.install-out.txt --library=/Library/Frameworks/R.framework/Resources/library --no-vignettes --timings hummingbird_1.16.0.tar.gz StartedAt: 2025-04-01 04:22:20 -0400 (Tue, 01 Apr 2025) EndedAt: 2025-04-01 04:27:25 -0400 (Tue, 01 Apr 2025) EllapsedTime: 304.9 seconds RetCode: 0 Status: OK CheckDir: hummingbird.Rcheck Warnings: 0