Package: hpar Version: 1.48.0 Command: F:\biocbuild\bbs-3.20-bioc\R\bin\R.exe CMD INSTALL hpar StartedAt: 2025-03-31 15:52:05 -0400 (Mon, 31 Mar 2025) EndedAt: 2025-03-31 15:52:23 -0400 (Mon, 31 Mar 2025) EllapsedTime: 18.0 seconds RetCode: 0 Status: OK