Package: hpar Version: 1.48.0 Command: F:\biocbuild\bbs-3.20-bioc\R\bin\R.exe CMD check --no-multiarch --install=check:hpar.install-out.txt --library=F:\biocbuild\bbs-3.20-bioc\R\library --no-vignettes --timings hpar_1.48.0.tar.gz StartedAt: 2025-04-01 02:30:45 -0400 (Tue, 01 Apr 2025) EndedAt: 2025-04-01 02:32:53 -0400 (Tue, 01 Apr 2025) EllapsedTime: 127.8 seconds RetCode: 0 Status: OK CheckDir: hpar.Rcheck Warnings: 0