Package: hpar Version: 1.48.0 Command: chmod a+r hpar -R && F:\biocbuild\bbs-3.20-bioc\R\bin\R.exe CMD build --keep-empty-dirs --no-resave-data hpar StartedAt: 2025-03-31 19:33:41 -0400 (Mon, 31 Mar 2025) EndedAt: 2025-03-31 19:36:13 -0400 (Mon, 31 Mar 2025) EllapsedTime: 152.1 seconds RetCode: 0 Status: OK PackageFile: hpar_1.48.0.tar.gz PackageFileSize: 885.6 KiB