Package: hpar Version: 1.48.0 Command: /home/biocbuild/bbs-3.20-bioc/R/bin/R CMD check --install=check:hpar.install-out.txt --library=/home/biocbuild/bbs-3.20-bioc/R/site-library --timings hpar_1.48.0.tar.gz StartedAt: 2025-03-31 23:00:44 -0400 (Mon, 31 Mar 2025) EndedAt: 2025-03-31 23:02:48 -0400 (Mon, 31 Mar 2025) EllapsedTime: 124.1 seconds RetCode: 0 Status: OK CheckDir: hpar.Rcheck Warnings: 0