Package: hpar Version: 1.48.0 Command: /Library/Frameworks/R.framework/Resources/bin/R CMD check --install=check:hpar.install-out.txt --library=/Library/Frameworks/R.framework/Resources/library --no-vignettes --timings hpar_1.48.0.tar.gz StartedAt: 2025-04-01 21:58:18 -0400 (Tue, 01 Apr 2025) EndedAt: 2025-04-01 22:00:14 -0400 (Tue, 01 Apr 2025) EllapsedTime: 116.0 seconds RetCode: 0 Status: OK CheckDir: hpar.Rcheck Warnings: 0