Package: hoodscanR Version: 1.4.0 Command: rm -rf hoodscanR.buildbin-libdir && mkdir hoodscanR.buildbin-libdir && F:\biocbuild\bbs-3.20-bioc\R\bin\R.exe CMD INSTALL --build --library=hoodscanR.buildbin-libdir hoodscanR_1.4.0.tar.gz StartedAt: 2025-04-01 08:24:09 -0400 (Tue, 01 Apr 2025) EndedAt: 2025-04-01 08:24:57 -0400 (Tue, 01 Apr 2025) EllapsedTime: 47.7 seconds RetCode: 0 Status: OK PackageFile: hoodscanR_1.4.0.zip PackageFileSize: 1.565 MiB