Package: hoodscanR Version: 1.4.0 Command: /Library/Frameworks/R.framework/Resources/bin/R CMD build --keep-empty-dirs --no-resave-data hoodscanR StartedAt: 2025-03-31 19:23:49 -0400 (Mon, 31 Mar 2025) EndedAt: 2025-03-31 19:25:54 -0400 (Mon, 31 Mar 2025) EllapsedTime: 125.5 seconds RetCode: 0 Status: OK PackageFile: hoodscanR_1.4.0.tar.gz PackageFileSize: 3.032 MiB