Package: hoodscanR Version: 1.4.0 Command: rm -rf hoodscanR.buildbin-libdir && mkdir hoodscanR.buildbin-libdir && /Users/biocbuild/BBS/utils/build-universal.sh hoodscanR_1.4.0.tar.gz /Library/Frameworks/R.framework/Resources/bin/R hoodscanR.buildbin-libdir StartedAt: 2025-04-01 12:03:32 -0400 (Tue, 01 Apr 2025) EndedAt: 2025-04-01 12:04:41 -0400 (Tue, 01 Apr 2025) EllapsedTime: 69.9 seconds RetCode: 0 Status: OK PackageFile: hoodscanR_1.4.0.tgz PackageFileSize: 3.126 MiB