Package: hmdbQuery Version: 1.26.0 Command: /Library/Frameworks/R.framework/Resources/bin/R CMD check --install=check:hmdbQuery.install-out.txt --library=/Library/Frameworks/R.framework/Resources/library --no-vignettes --timings hmdbQuery_1.26.0.tar.gz StartedAt: 2025-04-01 04:18:16 -0400 (Tue, 01 Apr 2025) EndedAt: 2025-04-01 04:20:19 -0400 (Tue, 01 Apr 2025) EllapsedTime: 123.0 seconds RetCode: 0 Status: OK CheckDir: hmdbQuery.Rcheck Warnings: 0