Package: hierinf Version: 1.24.0 Command: /home/biocbuild/bbs-3.20-bioc/R/bin/R CMD check --install=check:hierinf.install-out.txt --library=/home/biocbuild/bbs-3.20-bioc/R/site-library --timings hierinf_1.24.0.tar.gz StartedAt: 2025-03-31 22:58:03 -0400 (Mon, 31 Mar 2025) EndedAt: 2025-03-31 23:02:05 -0400 (Mon, 31 Mar 2025) EllapsedTime: 242.3 seconds RetCode: 0 Status: OK CheckDir: hierinf.Rcheck Warnings: 0