Package: hierinf Version: 1.24.0 Command: /Library/Frameworks/R.framework/Resources/bin/R CMD check --install=check:hierinf.install-out.txt --library=/Library/Frameworks/R.framework/Resources/library --no-vignettes --timings hierinf_1.24.0.tar.gz StartedAt: 2025-04-01 04:15:43 -0400 (Tue, 01 Apr 2025) EndedAt: 2025-04-01 04:22:03 -0400 (Tue, 01 Apr 2025) EllapsedTime: 380.4 seconds RetCode: 0 Status: OK CheckDir: hierinf.Rcheck Warnings: 0