Package: hierGWAS Version: 1.36.0 Command: /home/biocbuild/R/R/bin/R CMD INSTALL hierGWAS StartedAt: 2025-03-31 20:51:58 -0000 (Mon, 31 Mar 2025) EndedAt: 2025-03-31 20:52:05 -0000 (Mon, 31 Mar 2025) EllapsedTime: 6.5 seconds RetCode: 0 Status: OK