Package: hierGWAS Version: 1.36.0 Command: /home/biocbuild/bbs-3.20-bioc/R/bin/R CMD build --keep-empty-dirs --no-resave-data --md5 hierGWAS StartedAt: 2025-03-31 17:36:46 -0400 (Mon, 31 Mar 2025) EndedAt: 2025-03-31 17:38:21 -0400 (Mon, 31 Mar 2025) EllapsedTime: 95.1 seconds RetCode: 0 Status: OK PackageFile: hierGWAS_1.36.0.tar.gz PackageFileSize: 568.1 KiB