Package: hierGWAS Version: 1.36.0 Command: /Library/Frameworks/R.framework/Resources/bin/R CMD INSTALL hierGWAS StartedAt: 2025-03-31 16:06:47 -0400 (Mon, 31 Mar 2025) EndedAt: 2025-03-31 16:07:00 -0400 (Mon, 31 Mar 2025) EllapsedTime: 12.3 seconds RetCode: 0 Status: OK