Package: hierGWAS Version: 1.36.0 Command: /Library/Frameworks/R.framework/Resources/bin/R CMD check --install=check:hierGWAS.install-out.txt --library=/Library/Frameworks/R.framework/Resources/library --no-vignettes --timings hierGWAS_1.36.0.tar.gz StartedAt: 2025-04-01 04:15:09 -0400 (Tue, 01 Apr 2025) EndedAt: 2025-04-01 04:17:02 -0400 (Tue, 01 Apr 2025) EllapsedTime: 112.2 seconds RetCode: 0 Status: WARNINGS CheckDir: hierGWAS.Rcheck Warnings: 1