Package: hierGWAS Version: 1.36.0 Command: rm -rf hierGWAS.buildbin-libdir && mkdir hierGWAS.buildbin-libdir && /Users/biocbuild/BBS/utils/build-universal.sh hierGWAS_1.36.0.tar.gz /Library/Frameworks/R.framework/Resources/bin/R hierGWAS.buildbin-libdir StartedAt: 2025-04-01 12:02:57 -0400 (Tue, 01 Apr 2025) EndedAt: 2025-04-01 12:03:10 -0400 (Tue, 01 Apr 2025) EllapsedTime: 13.4 seconds RetCode: 0 Status: OK PackageFile: hierGWAS_1.36.0.tgz PackageFileSize: 554 KiB