Package: hicVennDiagram Version: 1.4.0 Command: rm -rf hicVennDiagram.buildbin-libdir && mkdir hicVennDiagram.buildbin-libdir && F:\biocbuild\bbs-3.20-bioc\R\bin\R.exe CMD INSTALL --build --library=hicVennDiagram.buildbin-libdir hicVennDiagram_1.4.0.tar.gz StartedAt: 2025-04-01 08:23:22 -0400 (Tue, 01 Apr 2025) EndedAt: 2025-04-01 08:25:24 -0400 (Tue, 01 Apr 2025) EllapsedTime: 122.5 seconds RetCode: 0 Status: OK PackageFile: hicVennDiagram_1.4.0.zip PackageFileSize: 1.091 MiB