Package: hicVennDiagram Version: 1.4.0 Command: /home/biocbuild/bbs-3.20-bioc/R/bin/R CMD build --keep-empty-dirs --no-resave-data --md5 hicVennDiagram StartedAt: 2025-03-31 17:36:41 -0400 (Mon, 31 Mar 2025) EndedAt: 2025-03-31 17:37:45 -0400 (Mon, 31 Mar 2025) EllapsedTime: 64.1 seconds RetCode: 0 Status: OK PackageFile: hicVennDiagram_1.4.0.tar.gz PackageFileSize: 1.122 MiB