Package: hicVennDiagram Version: 1.4.0 Command: /Library/Frameworks/R.framework/Resources/bin/R CMD build --keep-empty-dirs --no-resave-data hicVennDiagram StartedAt: 2025-03-31 19:21:20 -0400 (Mon, 31 Mar 2025) EndedAt: 2025-03-31 19:23:45 -0400 (Mon, 31 Mar 2025) EllapsedTime: 145.0 seconds RetCode: 0 Status: OK PackageFile: hicVennDiagram_1.4.0.tar.gz PackageFileSize: 1.18 MiB