Package: hicVennDiagram Version: 1.4.0 Command: /Library/Frameworks/R.framework/Resources/bin/R CMD check --install=check:hicVennDiagram.install-out.txt --library=/Library/Frameworks/R.framework/Resources/library --no-vignettes --timings hicVennDiagram_1.4.0.tar.gz StartedAt: 2025-04-01 21:45:37 -0400 (Tue, 01 Apr 2025) EndedAt: 2025-04-01 21:50:27 -0400 (Tue, 01 Apr 2025) EllapsedTime: 289.6 seconds RetCode: 0 Status: OK CheckDir: hicVennDiagram.Rcheck Warnings: 0