Package: hicVennDiagram Version: 1.4.0 Command: /Library/Frameworks/R.framework/Resources/bin/R CMD build --keep-empty-dirs --no-resave-data hicVennDiagram StartedAt: 2025-04-01 01:14:24 -0400 (Tue, 01 Apr 2025) EndedAt: 2025-04-01 01:15:39 -0400 (Tue, 01 Apr 2025) EllapsedTime: 74.3 seconds RetCode: 0 Status: OK PackageFile: hicVennDiagram_1.4.0.tar.gz PackageFileSize: 1.181 MiB