Package: hiReadsProcessor Version: 1.42.0 Command: /Library/Frameworks/R.framework/Resources/bin/R CMD build --keep-empty-dirs --no-resave-data hiReadsProcessor StartedAt: 2025-03-31 19:22:03 -0400 (Mon, 31 Mar 2025) EndedAt: 2025-03-31 19:24:26 -0400 (Mon, 31 Mar 2025) EllapsedTime: 142.3 seconds RetCode: 0 Status: OK PackageFile: hiReadsProcessor_1.42.0.tar.gz PackageFileSize: 3.147 MiB